BEGIN:VCALENDAR
VERSION:2.0
PRODID:-//Alchemy Therapy - ECPv4.6.20.1//NONSGML v1.0//EN
CALSCALE:GREGORIAN
METHOD:PUBLISH
X-WR-CALNAME:Alchemy Therapy
X-ORIGINAL-URL:https://www.alchemytherapy.com.au
X-WR-CALDESC:Events for Alchemy Therapy
BEGIN:VEVENT
DTSTART;TZID=Australia/Perth:20160209T190000
DTEND;TZID=Australia/Perth:20160209T203000
DTSTAMP:20210226T150419
CREATED:20160105T084317Z
LAST-MODIFIED:20160105T152658Z
UID:456-1455044400-1455049800@www.alchemytherapy.com.au
SUMMARY:Understanding IQ Tests & Levels of Giftedness
DESCRIPTION: \nYou’ll explore what an IQ test actually measures\, what it doesn’t\, the different types of tests\, and what scores mean in relation to levels of giftedness. ‘How gifted is my child?’ is a common question and this seminar will provide you with a better understanding of what your child actually needs. \nSessions will be based at West Perth Medical Centre and led by Dr. Kate Burton. Kate’s research and practice explore the intersection between education\, and social and emotional wellbeing. She has a particular interest in students with diverse learning needs\, specifically gifted and creative children and adolescents. Numbers will be kept small to ensure sessions are both informal and interactive. \n  \nCost: $75 per seminar Location: West Perth Medical Centre. \nTo purchase your ticket for this event please either use the contact form to request a booking or book directly using this link. \n
URL:https://www.alchemytherapy.com.au/event/understanding-iq-tests-levels-of-giftedness/
LOCATION:100 Outram Street\, West Perth\, Western Australia\, 6005\, Australia
CATEGORIES:Gifted
END:VEVENT
END:VCALENDAR