BEGIN:VCALENDAR
VERSION:2.0
PRODID:-//Alchemy Therapy - ECPv4.6.20.1//NONSGML v1.0//EN
CALSCALE:GREGORIAN
METHOD:PUBLISH
X-WR-CALNAME:Alchemy Therapy
X-ORIGINAL-URL:https://www.alchemytherapy.com.au
X-WR-CALDESC:Events for Alchemy Therapy
BEGIN:VEVENT
DTSTART;TZID=Australia/Perth:20160216T190000
DTEND;TZID=Australia/Perth:20160216T203000
DTSTAMP:20210226T150435
CREATED:20160105T084454Z
LAST-MODIFIED:20160105T152854Z
UID:457-1455649200-1455654600@www.alchemytherapy.com.au
SUMMARY:To Grade Skip or Not to Grade Skip?
DESCRIPTION: \nAcceleration is a topic frequently discussed in relation to gifted kids\, and one that can cause anxiety in parents! But what types of acceleration\, other than a grade skip\, are available? Is your child a good candidate for a grade skip\, or even radical acceleration? This seminar seeks to address these questions. \nSessions will be based at West Perth Medical Centre and led by Dr. Kate Burton. Kate’s research and practice explore the intersection between education\, and social and emotional wellbeing. She has a particular interest in students with diverse learning needs\, specifically gifted and creative children and adolescents. Numbers will be kept small to ensure sessions are both informal and interactive. \n Cost: $75 per seminar Location: West Perth Medical Centre. \nTo purchase your ticket for this event please either use the contact form to request a booking or book directly using this link. \n
URL:https://www.alchemytherapy.com.au/event/to-grade-skip-or-not-to-grade-skip/
LOCATION:100 Outram Street\, West Perth\, Western Australia\, 6005\, Australia
CATEGORIES:Gifted
END:VEVENT
END:VCALENDAR