BEGIN:VCALENDAR
VERSION:2.0
PRODID:-//Alchemy Therapy - ECPv4.6.20.1//NONSGML v1.0//EN
CALSCALE:GREGORIAN
METHOD:PUBLISH
X-WR-CALNAME:Alchemy Therapy
X-ORIGINAL-URL:https://www.alchemytherapy.com.au
X-WR-CALDESC:Events for Alchemy Therapy
BEGIN:VEVENT
DTSTART;TZID=Australia/Perth:20160329T190000
DTEND;TZID=Australia/Perth:20160329T203000
DTSTAMP:20210226T150650
CREATED:20160105T085154Z
LAST-MODIFIED:20160212T095438Z
UID:464-1459278000-1459283400@www.alchemytherapy.com.au
SUMMARY:Parent Seminar: Parenting the Perfectionist
DESCRIPTION: \n**** SOLD OUT **** \nDoes your child have very high expectations\, of himself and others? Does he or she like things ‘just so’? There is no wrath like that of a perfectionistic child when things don’t go to plan! We’ll look at the psychology of perfectionism and how to help your child increase resiliency and be less volatile when what happens in the real world does not match what they thought would happen in their head! \nSessions will be based at West Perth Medical Centre and led by Dr. Kate Burton. Kate’s research and practice explore the intersection between education\, and social and emotional wellbeing. She has a particular interest in students with diverse learning needs\, specifically gifted and creative children and adolescents. Numbers will be kept small to ensure sessions are both informal and interactive. \n  \nCost: $75 per seminar Location: West Perth Medical Centre. \nTo purchase your ticket for this event please either use the contact form to request a booking or book directly using this link. \n
URL:https://www.alchemytherapy.com.au/event/parenting-the-perfectionist/
LOCATION:100 Outram Street\, West Perth\, Western Australia\, 6005\, Australia
CATEGORIES:Gifted
END:VEVENT
END:VCALENDAR