BEGIN:VCALENDAR
VERSION:2.0
PRODID:-//Alchemy Therapy - ECPv4.6.20.1//NONSGML v1.0//EN
CALSCALE:GREGORIAN
METHOD:PUBLISH
X-WR-CALNAME:Alchemy Therapy
X-ORIGINAL-URL:https://www.alchemytherapy.com.au
X-WR-CALDESC:Events for Alchemy Therapy
BEGIN:VEVENT
DTSTART;TZID=Australia/Perth:20160202T190000
DTEND;TZID=Australia/Perth:20160202T203000
DTSTAMP:20210226T150325
CREATED:20160105T082718Z
LAST-MODIFIED:20160212T093919Z
UID:454-1454439600-1454445000@www.alchemytherapy.com.au
SUMMARY:Giftedness 101
DESCRIPTION: \n\n**** SOLD OUT **** \nWhat exactly is ‘giftedness’ and what does it mean for your child – for their academic needs\, and their social and emotional wellbeing? This seminar provides an overview of giftedness: its various definitions\, and what the gifted label means to educators and parents alike. It examines how your child may differ from same age peers and what this means for their development. It will cover various topics\, offering a ‘taster’ of each\, focussing on the social\, emotional and academic needs of gifted children. This is a great place to start if your child has recently been labelled as gifted\, or you would like a refresher. A lot of information will be packed into this seminar and you’ll leave armed with an increased knowledge of how to best help your child. \nSessions will be based at West Perth Medical Centre and led by Dr. Kate Burton. Kate’s research and practice explore the intersection between education\, and social and emotional wellbeing. She has a particular interest in students with diverse learning needs\, specifically gifted and creative children and adolescents. Numbers will be kept small to ensure sessions are both informal and interactive. \n  \n Cost: $75 per seminar Location: West Perth Medical Centre. \nTo purchase your ticket for this event please either use the contact form to request a booking or book directly using this link. \n
URL:https://www.alchemytherapy.com.au/event/giftedness-10/
LOCATION:100 Outram Street\, West Perth\, Western Australia\, 6005\, Australia
CATEGORIES:Gifted
END:VEVENT
END:VCALENDAR