BEGIN:VCALENDAR
VERSION:2.0
PRODID:-//Alchemy Therapy - ECPv4.6.20.1//NONSGML v1.0//EN
CALSCALE:GREGORIAN
METHOD:PUBLISH
X-WR-CALNAME:Alchemy Therapy
X-ORIGINAL-URL:https://www.alchemytherapy.com.au
X-WR-CALDESC:Events for Alchemy Therapy
BEGIN:VEVENT
DTSTART;TZID=Australia/Perth:20160322T190000
DTEND;TZID=Australia/Perth:20160322T203000
DTSTAMP:20210226T150606
CREATED:20160105T085050Z
LAST-MODIFIED:20160217T155234Z
UID:463-1458673200-1458678600@www.alchemytherapy.com.au
SUMMARY:Autism\, ADHD\, Bipolar or 'Just Gifted'?
DESCRIPTION: \nTrying to unpick mental health concerns and disorders in gifted children is often a very difficult task. Both misdiagnoses and ‘missed diagnoses’ seem to happen frequently. At such an uncertain time what questions will help you decide whether or not something else besides giftedness might be at play for your child? We’ll explore relevant research in the field to gain a better understanding of such a complex subject. \nSessions will be based at West Perth Medical Centre and led by Dr. Kate Burton. Kate’s research and practice explore the intersection between education\, and social and emotional wellbeing. She has a particular interest in students with diverse learning needs\, specifically gifted and creative children and adolescents. Numbers will be kept small to ensure sessions are both informal and interactive. \n  \n                    Cost: $75 per seminar Location: West Perth Medical Centre. \nTo purchase your ticket for this event please either use the contact form to request a booking or book directly using this link. \n
URL:https://www.alchemytherapy.com.au/event/autism-adhd-bipolar-or-just-gifted/
LOCATION:100 Outram Street\, West Perth\, Western Australia\, 6005\, Australia
CATEGORIES:Gifted
END:VEVENT
END:VCALENDAR